Workbook

Sheet PAJAMOS
C1: PATVIRTINTA
C2: Kaišiadorių rajono savivaldybės tarybos 2024 m. sausio 25 d. sprendimu Nr. V17E-
A8: KAIŠIADORIŲ RAJONO SAVIVALDYBĖS 2024 METŲ BIUDŽETO PAJAMOS
C9: tūkst. Eur
A10: Eil. nr. | B10: Pajamos | C10: Iš viso
A11: 1. | B11: MOKESČIAI | C11: =C12+C15+C19 -> 30189
A12: 1.1. | B12: Gyventojų pajamų mokestis | C12: =C13 -> 28042
A13: 1.1.1. | B13: Gyventojų pajamų mokestis | C13: 28042
B14: iš jų GPM, mokamas už pajamas, gautas iš veiklos, kuria verčiamasi turint verslo liudijimą | C14: 29
A15: 1.2. | B15: Turto mokesčiai | C15: =SUM(C16:C18) -> 2042
A16: 1.2.1 | B16: Žemės mokestis | C16: 430
A17: 1.2.2. | B17: Paveldimo turto mokestis | C17: 12
A18: 1.2.3. | B18: Nekilnojamojo turto mokestis | C18: 1600
A19: 1.3. | B19: Prekių ir paslaugų mokesčiai | C19: =SUM(C20) -> 105
A20: 1.3.1. | B20: Mokesčiai už aplinkos teršimą | C20: 105
A21: 2. | B21: KITOS PAJAMOS | C21: =C22+C32+C39+C40 -> 1819
A22: 2.1. | B22: Turto pajamos | C22: =SUM(C23:C28)-C25-C26+C31 -> 382
A23: 2.1.1. | B23: Palūkanos | C23: 2
A24: 2.1.2. | B24: Dividendai ir kitos pelno įmokos | C24: =SUM(C25:C26) -> 10
A25: 2.1.2.1. | B25: Dividendai | C25: 10
A26: 2.1.2.2. | B26: VĮ pelno įmokos
A27: 2.1.3. | B27: Nuomos mokestis už valstybinę žemę | C27: 90
A28: 2.1.4. | B28: Mokesčiai už valstybinius gamtos išteklius | C28: =SUM(C29:C30) -> 80
A29: 2.1.4.1. | B29: Mokesčiai už medžiojamųjų gyvūnų išteklius | C29: 35
A30: 2.1.4.2. | B30: Kiti mokesčiai už valstybinius gamtos išteklius | C30: 45
A31: 2.1.5. | B31: Pajamos iš infrastruktūros plėtros įmokų | C31: 200
A32: 2.2. | B32: Pajamos už prekes ir paslaugas | C32: =C33+C34+C35+C36 -> 1112
A33: 2.2.1. | B33: Biudžetinių įstaigų pajamos už prekes ir paslaugas | C33: 253.4
A34: 2.2.2. | B34: Pajamos už ilgalaikio ir trumpalaikio materialiojo turto nuomą | C34: 141.9
A35: 2.2.3. | B35: Įmokos už išlaikymą švietimo, socialinės apsaugos ir kitose įstaigose | C35: 639.7
A36: 2.2.4. | B36: Rinkliavos | C36: =SUM(C37:C38) -> 77
A37: 2.2.4.1. | B37: Valstybės rinkliava | C37: 42
A38: 2.2.4.2. | B38: Vietinė rinkliava | C38: 35
A39: 2.3. | B39: Pajamos iš baudų, konfiskuoto turto ir kitų netesybų | C39: 25
A40: 2.4. | B40: Kitos neišvardytos pajamos | C40: 300
A41: IŠ VISO MOKESČIŲ IR KITŲ PAJAMŲ | C41: =C21+C11 -> 32008
A42: 3. MATERIALIOJO IR NEMATERIALIOJO TURTO REALIZAVIMO PAJAMOS
A43: 3.1. | B43: Ilgalaikio materialiojo turto realizavimo pajamos | C43: =SUM(C44:C45) -> 40
A44: 3.1.1. | B44: Žemės realizavimo pajamos | C44: 40
A45: 3.1.2. | B45: Pastatų ir statinių realizavimo pajamos
...

Sheet BĮ PAJAMOS
D1: PATVIRTINTA
D2: Kaišiadorių rajono savivaldybės tarybos
D3: 2024 m. sausio 25 d. sprendimu Nr. V17E-
B7: KAIŠIADORIŲ RAJONO SAVIVALDYBĖS 2024 METŲ BIUDŽETE NUMATYTOS
A8: BIUDŽETINIŲ ĮSTAIGŲ PAJAMŲ ĮMOKOS
F9: tūkst. Eur
A10: Eil. nr. | B10: Asignavimų valdytojas | C10: Iš viso už prekes ir paslaugas | D10: Biudžetinių įstaigų pajamos už prekes ir paslaugas | E10: Įmokos už išlaikymą švietimo, socialinės apsaugos ir kitose įstaigose | F10: Pajamos už ilgalaikio ir trumpalaikio materialiojo turto nuomą
A13: 1. | B13: Savivaldybės valdymo programa
A14: 1.1. | B14: Kaišiadorių lopšelio-darželio „Žvaigždutė“ direktorius | C14: =D14+E14+F14 -> 100.5 | E14: 99.5 | F14: 1
A15: 1.2. | B15: Kaišiadorių lopšelio-darželio „Spindulys“ direktorius | C15: =D15+E15+F15 -> 97.5 | E15: 96.3 | F15: 1.2
A16: 1.3. | B16: Kaišiadorių r. Rumšiškių lopšelio-darželio direktorius | C16: =D16+E16+F16 -> 30 | E16: 30
A17: 1.4. | B17: Kaišiadorių r. Pravieniškių lopšelio-darželio „Ąžuoliukas“ direktorius | C17: =D17+E17+F17 -> 30.4 | E17: 30.4
A18: 1.5. | B18: Kaišiadorių r. Gudienos mokyklos-darželio „Rugelis“ direktorius | C18: =D18+E18+F18 -> 51 | E18: 51
A19: 1.6. | B19: Kaišiadorių r. Žiežmarių mokyklos-darželio „Vaikystės dvaras“ direktorius | C19: =D19+E19+F19 -> 76.5 | E19: 75.4 | F19: 1.1
A20: 1.7. | B20: Kaišiadorių Algirdo Brazausko gimnazijos direktorius | C20: =D20+E20+F20 -> 6 | D20: 1.5 | F20: 4.5
A21: 1.8. | B21: Kaišiadorių r. Žiežmarių gimnazijos direktorius | C21: =D21+E21+F21 -> 2.9 | F21: 2.9
A22: 1.9. | B22: Kaišiadorių r. Rumšiškių Antano Baranausko gimnazijos direktorius | C22: =D22+E22+F22 -> 22.2 | D22: 0.1 | E22: 19.6 | F22: 2.5
A23: 1.10. | B23: Kaišiadorių r. Kruonio pagrindinės mokyklos direktorius | C23: =D23+E23+F23 -> 19.4 | E23: 19 | F23: 0.4
A24: 1.11. | B24: Kaišiadorių Vaclovo Giržado progimnazijos direktorius | C24: =D24+E24+F24 -> 29 | E24: 17 | F24: 12
A25: 1.12. | B25: Kaišiadorių r. Žaslių pagrindinės mokyklos direktorius | C25: =D25+E25+F25 -> 23.4 | E25: 23 | F25: 0.4
A26: 1.13. | B26: Kaišiadorių r. Palomenės pagrindinės mokyklos direktorius | C26: =D26+E26+F26 -> 5.5 | E26: 5.5
A27: 1.14. | B27: Kaišiadorių suaugusiųjų mokyklos direktorius | C27: =D27+E27+F27 -> 0.5 | D27: 0.5
A28: 1.15. | B28: Kaišiadorių šventosios Faustinos ugdymo centro direktorius | C28: =D28+E28+F28 -> 6 | E28: 6
A29: 1.16. | B29: Kaišiadorių meno mokyklos direktorius | C29: =D29+E29+F29 -> 87 | E29: 87
A30: 1.17. | B30: Kaišiadorių švietimo ir sporto centro direktorius | C30: =D30+E30+F30 -> 105 | D30: 55 | E30: 50
A31: 1.18. | B31: Kaišiadorių rajono savivaldybės viešosios bibliotekos direktorius | C31: =D31+E31+F31 -> 2 | D31: 2
A32: 1.19. | B32: Kaišiadorių kultūros centro direktorius | C32: =D32+E32+F32 -> 17.5 | D32: 1 | F32: 16.5
A33: 1.20. | B33: Kruonio kultūros centro direktorius | C33: =D33+E33+F33 -> 0.6 | F33: 0.6
A34: 1.21. | B34: Palomenės kultūros centro direktorius | C34: =D34+E34+F34 -> 6.5 | F34: 6.5
A35: 1.22. | B35: Rumšiškių kultūros centro direktorius | C35: =D35+E35+F35 -> 1.7 | F35: 1.7
A36: 1.23. | B36: Žaslių kultūros centro direktorius | C36: =D36+E36+F36 -> 21 | D36: 20 | F36: 1
A37: 1.24. | B37: Žiežmarių kultūros centro direktorius | C37: =D37+E37+F37 -> 0.7 | F37: 0.7
B38: Iš viso | C38: =SUM(C14:C37) -> 742.8 | D38: =SUM(D14:D37) -> 80.1 | E38: =SUM(E14:E37) -> 609.7 | F38: =SUM(F14:F37) -> 53
A39: 2. | B39: Sveikatos ir socialinės apsaugos programa
A40: 2.1. | B40: Kaišiadorių socialinių paslaugų centro direktorius | C40: =D40+E40+F40 -> 170 | D40: 165 | E40: 4 | F40: 1
A41: 2.2. | B41: Kaišiadorių šventosios Faustinos ugdymo centro direktorius | C41: =D41+E41+F41 -> 27 | D41: 0.5 | E41: 26 | F41: 0.5
A42: 2.3. | B42: Kaišiadorių rajono savivaldybės visuomenės sveikatos biuro direktorius | C42: =D42+E42+F42 -> 7.8 | D42: 7.8
A43: 2.4. | B43: Kaišiadorių miesto seniūnas | C43: =D43+E43+F43 -> 50 | F43: 50
A44: 2.5. | B44: Kaišiadorių apylinkės seniūnas | C44: =D44+E44+F44 -> 1.5 | F44: 1.5
A45: 2.6. | B45: Kruonio seniūnas | C45: =D45+E45+F45 -> 1.4 | F45: 1.4
...

Sheet ASIGNAVIMAI
C1: PATVIRTINTA
C2: Kaišiadorių rajono savivaldybės tarybos
C3: 2024 m. sausio 25 d. sprendimu
C4: Nr. V17E-
A8: KAIŠIADORIŲ RAJONO SAVIVALDYBĖS 2024 METŲ BIUDŽETO ASIGNAVIMAI
D9: tūkst. Eur
A10: Eil. nr. | B10: Asignavimų valdytojas | C10: Iš viso | D10: iš jų darbo užmokesčiui
A12: 1. | B12: Savivaldybės valdymo programa
A13: 1.1. | B13: Savivaldybės administracijos direktorius | C13: ='ASIGNAVIMAI IŠ SAVIV.BIUDŽETO'!C15+'ASIGN IŠ DOTACIJŲ'!D22+'ASIGN IŠ DOTACIJŲ'!D21+'ASIGN IŠ DOTACIJŲ'!D20+'ASIGN IŠ DOTACIJŲ'!D19+'ASIGN IŠ DOTACIJŲ'!D18+'ASIGN IŠ DOTACIJŲ'!D17+'ASIGN IŠ DOTACIJŲ'!D16+'ASIGN IŠ DOTACIJŲ'!D15+'ASIGN IŠ DOTACIJŲ'!D14+'ASIGN IŠ DOTACIJŲ'!D13+BKL!C14 -> 5219.2 | D13: ='ASIGNAVIMAI IŠ SAVIV.BIUDŽETO'!D15+'ASIGN IŠ DOTACIJŲ'!E22+'ASIGN IŠ DOTACIJŲ'!E21+'ASIGN IŠ DOTACIJŲ'!E20+'ASIGN IŠ DOTACIJŲ'!E19+'ASIGN IŠ DOTACIJŲ'!E18+'ASIGN IŠ DOTACIJŲ'!E17+'ASIGN IŠ DOTACIJŲ'!E16+'ASIGN IŠ DOTACIJŲ'!E15+'ASIGN IŠ DOTACIJŲ'!E14+'ASIGN IŠ DOTACIJŲ'!E13+BKL!D14 -> 4443.2
A14: 1.2. | B14: Savivaldybės administracijos direktorius (paskolų, dotacijų grąžinimas ir palūkanų mokėjimas) | C14: ='ASIGNAVIMAI IŠ SAVIV.BIUDŽETO'!C16 -> 891.3
A15: 1.3. | B15: Savivaldybės administracijos direktorius (Savivaldybės mero rezervas) | C15: ='ASIGNAVIMAI IŠ SAVIV.BIUDŽETO'!C17 -> 100
A16: 1.4. | B16: Savivaldybės administracijos direktorius (Savivaldybės tarybos funkcijoms) | C16: ='ASIGNAVIMAI IŠ SAVIV.BIUDŽETO'!C18 -> 735 | D16: ='ASIGNAVIMAI IŠ SAVIV.BIUDŽETO'!D18 -> 664
A17: 1.5. | B17: Savivaldybės kontrolierius | C17: ='ASIGNAVIMAI IŠ SAVIV.BIUDŽETO'!C19+BKL!C18 -> 118.9 | D17: ='ASIGNAVIMAI IŠ SAVIV.BIUDŽETO'!D19+BKL!D18 -> 110
A18: 1.6. | B18: Kaišiadorių rajono priešgaisrinės tarnybos viršininkas | C18: ='ASIGNAVIMAI IŠ SAVIV.BIUDŽETO'!C20+'ASIGN IŠ DOTACIJŲ'!D24+BKL!C19 -> 1027.4 | D18: ='ASIGNAVIMAI IŠ SAVIV.BIUDŽETO'!D20+'ASIGN IŠ DOTACIJŲ'!E24+BKL!D19 -> 910
A19: 1.7. | B19: Kaišiadorių bendrųjų funkcijų tarnybos direktorius | C19: ='ASIGNAVIMAI IŠ SAVIV.BIUDŽETO'!C21+BKL!C20 -> 958.7 | D19: ='ASIGNAVIMAI IŠ SAVIV.BIUDŽETO'!D21+BKL!D20 -> 830
A20: 1.8. | B20: Kaišiadorių lopšelio-darželio „Žvaigždutė“ direktorius | C20: ='ASIGNAVIMAI IŠ SAVIV.BIUDŽETO'!C22+'ASIGN IŠ BĮ PAJAMŲ'!C14+'IŠ NEP BĮ PAJAMŲ ĮM'!C12+BKL!C21 -> 576.4 | D20: ='ASIGNAVIMAI IŠ SAVIV.BIUDŽETO'!D22+'ASIGN IŠ BĮ PAJAMŲ'!D14+'IŠ NEP BĮ PAJAMŲ ĮM'!D12+BKL!D21 -> 342.5
A21: 1.9. | B21: Kaišiadorių lopšelio-darželio „Spindulys“ direktorius | C21: ='ASIGNAVIMAI IŠ SAVIV.BIUDŽETO'!C23+'ASIGN IŠ BĮ PAJAMŲ'!C15+'IŠ NEP BĮ PAJAMŲ ĮM'!C13+BKL!C22 -> 488.2 | D21: ='ASIGNAVIMAI IŠ SAVIV.BIUDŽETO'!D23+'ASIGN IŠ BĮ PAJAMŲ'!D15+'IŠ NEP BĮ PAJAMŲ ĮM'!D13+BKL!D22 -> 290
A22: 1.10. | B22: Kaišiadorių r. Rumšiškių lopšelio-darželio direktorius | C22: ='ASIGNAVIMAI IŠ SAVIV.BIUDŽETO'!C24+'ASIGN IŠ BĮ PAJAMŲ'!C16+'IŠ NEP BĮ PAJAMŲ ĮM'!C14+BKL!C23 -> 257.2 | D22: ='ASIGNAVIMAI IŠ SAVIV.BIUDŽETO'!D24+'ASIGN IŠ BĮ PAJAMŲ'!D16+'IŠ NEP BĮ PAJAMŲ ĮM'!D14+BKL!D23 -> 165
A23: 1.11. | B23: Kaišiadorių r. Pravieniškių lopšelio-darželio „Ąžuoliukas“ direktorius | C23: ='ASIGNAVIMAI IŠ SAVIV.BIUDŽETO'!C25+'ASIGN IŠ BĮ PAJAMŲ'!C17+'IŠ NEP BĮ PAJAMŲ ĮM'!C15+BKL!C24 -> 249.8 | D23: ='ASIGNAVIMAI IŠ SAVIV.BIUDŽETO'!D25+'ASIGN IŠ BĮ PAJAMŲ'!D17+'IŠ NEP BĮ PAJAMŲ ĮM'!D15+BKL!D24 -> 174.6
A24: 1.12. | B24: Kaišiadorių r. Gudienos mokyklos-darželio „Rugelis“ direktorius | C24: ='ASIGNAVIMAI IŠ SAVIV.BIUDŽETO'!C26+'ASIGN IŠ BĮ PAJAMŲ'!C18+'IŠ NEP BĮ PAJAMŲ ĮM'!C16+BKL!C25 -> 450 | D24: ='ASIGNAVIMAI IŠ SAVIV.BIUDŽETO'!D26+'ASIGN IŠ BĮ PAJAMŲ'!D18+'IŠ NEP BĮ PAJAMŲ ĮM'!D16+BKL!D25 -> 292.6
A25: 1.13. | B25: Kaišiadorių r. Žiežmarių mokyklos-darželio „Vaikystės dvaras“ direktorius | C25: ='ASIGNAVIMAI IŠ SAVIV.BIUDŽETO'!C27+'ASIGN IŠ BĮ PAJAMŲ'!C19+'IŠ NEP BĮ PAJAMŲ ĮM'!C17+BKL!C26 -> 607.7 | D25: ='ASIGNAVIMAI IŠ SAVIV.BIUDŽETO'!D27+'ASIGN IŠ BĮ PAJAMŲ'!D19+'IŠ NEP BĮ PAJAMŲ ĮM'!D17+BKL!D26 -> 383.8
A26: 1.14. | B26: Kaišiadorių Algirdo Brazausko gimnazijos direktorius | C26: ='ASIGNAVIMAI IŠ SAVIV.BIUDŽETO'!C28+'ASIGN IŠ BĮ PAJAMŲ'!C20+'IŠ NEP BĮ PAJAMŲ ĮM'!C18+BKL!C27 -> 400.6 | D26: ='ASIGNAVIMAI IŠ SAVIV.BIUDŽETO'!D28+'ASIGN IŠ BĮ PAJAMŲ'!D20+'IŠ NEP BĮ PAJAMŲ ĮM'!D18+BKL!D27 -> 245
A27: 1.15. | B27: Kaišiadorių r. Žiežmarių gimnazijos direktorius | C27: ='ASIGNAVIMAI IŠ SAVIV.BIUDŽETO'!C29+'ASIGN IŠ BĮ PAJAMŲ'!C21+'IŠ NEP BĮ PAJAMŲ ĮM'!C19+BKL!C28 -> 507.1 | D27: ='ASIGNAVIMAI IŠ SAVIV.BIUDŽETO'!D29+'ASIGN IŠ BĮ PAJAMŲ'!D21+'IŠ NEP BĮ PAJAMŲ ĮM'!D19+BKL!D28 -> 317.8
A28: 1.16. | B28: Kaišiadorių r. Rumšiškių Antano Baranausko gimnazijos direktorius | C28: ='ASIGNAVIMAI IŠ SAVIV.BIUDŽETO'!C30+'ASIGN IŠ BĮ PAJAMŲ'!C22+'IŠ NEP BĮ PAJAMŲ ĮM'!C20+BKL!C29 -> 490.6 | D28: ='ASIGNAVIMAI IŠ SAVIV.BIUDŽETO'!D30+'ASIGN IŠ BĮ PAJAMŲ'!D22+'IŠ NEP BĮ PAJAMŲ ĮM'!D20+BKL!D29 -> 304.8
A29: 1.17. | B29: Kaišiadorių r. Kruonio pagrindinės mokyklos direktorius | C29: ='ASIGNAVIMAI IŠ SAVIV.BIUDŽETO'!C31+'ASIGN IŠ BĮ PAJAMŲ'!C23+'IŠ NEP BĮ PAJAMŲ ĮM'!C21+BKL!C30 -> 365 | D29: ='ASIGNAVIMAI IŠ SAVIV.BIUDŽETO'!D31+'ASIGN IŠ BĮ PAJAMŲ'!D23+'IŠ NEP BĮ PAJAMŲ ĮM'!D21+BKL!D30 -> 261.3
A30: 1.18. | B30: Kaišiadorių Vaclovo Giržado progimnazijos direktorius | C30: ='ASIGNAVIMAI IŠ SAVIV.BIUDŽETO'!C32+'ASIGN IŠ BĮ PAJAMŲ'!C24+'IŠ NEP BĮ PAJAMŲ ĮM'!C22+BKL!C31 -> 795.9 | D30: ='ASIGNAVIMAI IŠ SAVIV.BIUDŽETO'!D32+'ASIGN IŠ BĮ PAJAMŲ'!D24+'IŠ NEP BĮ PAJAMŲ ĮM'!D22+BKL!D31 -> 522
A31: 1.19. | B31: Kaišiadorių r. Žaslių pagrindinės mokyklos direktorius | C31: ='ASIGNAVIMAI IŠ SAVIV.BIUDŽETO'!C33+'ASIGN IŠ BĮ PAJAMŲ'!C25+'IŠ NEP BĮ PAJAMŲ ĮM'!C23+BKL!C32 -> 522.5 | D31: ='ASIGNAVIMAI IŠ SAVIV.BIUDŽETO'!D33+'ASIGN IŠ BĮ PAJAMŲ'!D25+'IŠ NEP BĮ PAJAMŲ ĮM'!D23+BKL!D32 -> 359.8
... A34: 1.22. | B34: Kaišiadorių šventosios Faustinos ugdymo centro direktorius | C34: ='ASIGNAVIMAI IŠ SAVIV.BIUDŽETO'!C36+'ASIGN IŠ BĮ PAJAMŲ'!C28+'IŠ NEP BĮ PAJAMŲ ĮM'!C26+BKL!C35 -> 121.9 | D34: ='ASIGNAVIMAI IŠ SAVIV.BIUDŽETO'!D36+'ASIGN IŠ BĮ PAJAMŲ'!D28+'IŠ NEP BĮ PAJAMŲ ĮM'!D26+BKL!D35 -> 55.4
A35: 1.23. | B35: Kaišiadorių pedagoginės psichologinės tarnybos direktorius | C35: ='ASIGNAVIMAI IŠ SAVIV.BIUDŽETO'!C37+BKL!C36 -> 18.2 | D35: ='ASIGNAVIMAI IŠ SAVIV.BIUDŽETO'!D37+BKL!D36 -> 9.3
A36: 1.24. | B36: Kaišiadorių meno mokyklos direktorius | C36: ='ASIGNAVIMAI IŠ SAVIV.BIUDŽETO'!C38+'ASIGN IŠ BĮ PAJAMŲ'!C29+'IŠ NEP BĮ PAJAMŲ ĮM'!C27+BKL!C37 -> 293.4 | D36: ='ASIGNAVIMAI IŠ SAVIV.BIUDŽETO'!D38+'ASIGN IŠ BĮ PAJAMŲ'!D29+'IŠ NEP BĮ PAJAMŲ ĮM'!D27+BKL!D37 -> 231.9
A37: 1.25. | B37: Kaišiadorių švietimo ir sporto centro direktorius | C37: ='ASIGNAVIMAI IŠ SAVIV.BIUDŽETO'!C39+'ASIGN IŠ BĮ PAJAMŲ'!C30+'IŠ NEP BĮ PAJAMŲ ĮM'!C28+BKL!C38 -> 567.7 | D37: ='ASIGNAVIMAI IŠ SAVIV.BIUDŽETO'!D39+'ASIGN IŠ BĮ PAJAMŲ'!D30+'IŠ NEP BĮ PAJAMŲ ĮM'!D28+BKL!D38 -> 370.8
A38: 1.26. | B38: Kaišiadorių rajono savivaldybės viešosios bibliotekos direktorius | C38: ='ASIGNAVIMAI IŠ SAVIV.BIUDŽETO'!C40+'ASIGN IŠ BĮ PAJAMŲ'!C31+'IŠ NEP BĮ PAJAMŲ ĮM'!C29+BKL!C39 -> 388.1 | D38: ='ASIGNAVIMAI IŠ SAVIV.BIUDŽETO'!D40+'ASIGN IŠ BĮ PAJAMŲ'!D31+'IŠ NEP BĮ PAJAMŲ ĮM'!D29+BKL!D39 -> 221.3
A39: 1.27. | B39: Kaišiadorių muziejaus direktorius | C39: ='ASIGNAVIMAI IŠ SAVIV.BIUDŽETO'!C41+BKL!C40 -> 90.5 | D39: ='ASIGNAVIMAI IŠ SAVIV.BIUDŽETO'!D41+BKL!D40 -> 68.7
A40: 1.28. | B40: Kaišiadorių kultūros centro direktorius | C40: ='ASIGNAVIMAI IŠ SAVIV.BIUDŽETO'!C42+'IŠ NEP BĮ PAJAMŲ ĮM'!C30+BKL!C41+'ASIGN IŠ BĮ PAJAMŲ'!C32 -> 409.4 | D40: ='ASIGNAVIMAI IŠ SAVIV.BIUDŽETO'!D42+'IŠ NEP BĮ PAJAMŲ ĮM'!D30+BKL!D41+'ASIGN IŠ BĮ PAJAMŲ'!D32 -> 218.8
A41: 1.29. | B41: Kruonio kultūros centro direktorius | C41: ='ASIGNAVIMAI IŠ SAVIV.BIUDŽETO'!C43+'IŠ NEP BĮ PAJAMŲ ĮM'!C31+BKL!C42+'ASIGN IŠ BĮ PAJAMŲ'!C33 -> 94.7 | D41: ='ASIGNAVIMAI IŠ SAVIV.BIUDŽETO'!D43+'IŠ NEP BĮ PAJAMŲ ĮM'!D31+BKL!D42+'ASIGN IŠ BĮ PAJAMŲ'!D33 -> 65.6
A42: 1.30. | B42: Palomenės kultūros centro direktorius | C42: ='ASIGNAVIMAI IŠ SAVIV.BIUDŽETO'!C44+'IŠ NEP BĮ PAJAMŲ ĮM'!C32+BKL!C43+'ASIGN IŠ BĮ PAJAMŲ'!C34 -> 90.4 | D42: ='ASIGNAVIMAI IŠ SAVIV.BIUDŽETO'!D44+'IŠ NEP BĮ PAJAMŲ ĮM'!D32+BKL!D43+'ASIGN IŠ BĮ PAJAMŲ'!D34 -> 56.6
A43: 1.31. | B43: Rumšiškių kultūros centro direktorius | C43: ='ASIGNAVIMAI IŠ SAVIV.BIUDŽETO'!C45+'IŠ NEP BĮ PAJAMŲ ĮM'!C33+BKL!C44+'ASIGN IŠ BĮ PAJAMŲ'!C35 -> 210.7 | D43: ='ASIGNAVIMAI IŠ SAVIV.BIUDŽETO'!D45+'IŠ NEP BĮ PAJAMŲ ĮM'!D33+BKL!D44+'ASIGN IŠ BĮ PAJAMŲ'!D35 -> 103.7
A44: 1.32. | B44: Žaslių kultūros centro direktorius | C44: ='ASIGNAVIMAI IŠ SAVIV.BIUDŽETO'!C46+'IŠ NEP BĮ PAJAMŲ ĮM'!C34+BKL!C45+'ASIGN IŠ BĮ PAJAMŲ'!C36 -> 153.1 | D44: ='ASIGNAVIMAI IŠ SAVIV.BIUDŽETO'!D46+'IŠ NEP BĮ PAJAMŲ ĮM'!D34+BKL!D45+'ASIGN IŠ BĮ PAJAMŲ'!D36 -> 80.9
A45: 1.33. | B45: Žiežmarių kultūros centro direktorius | C45: ='ASIGNAVIMAI IŠ SAVIV.BIUDŽETO'!C47+'IŠ NEP BĮ PAJAMŲ ĮM'!C35+BKL!C46+'ASIGN IŠ BĮ PAJAMŲ'!C37 -> 114.9 | D45: ='ASIGNAVIMAI IŠ SAVIV.BIUDŽETO'!D47+'IŠ NEP BĮ PAJAMŲ ĮM'!D35+BKL!D46+'ASIGN IŠ BĮ PAJAMŲ'!D37 -> 77.9
A46: 1.34. | B46: Kaišiadorių socialinių paslaugų centro direktorius | C46: ='ASIGNAVIMAI IŠ SAVIV.BIUDŽETO'!C48+BKL!C47 -> 563.4 | D46: ='ASIGNAVIMAI IŠ SAVIV.BIUDŽETO'!D48+BKL!D47 -> 341.2
...

Sheet ASIGN UGDYMO REIKMĖMS
C1: PATVIRTINTA
C2: Kaišiadorių rajono savivaldybės tarybos
C3: 2024 m. sausio 25 d. sprendimu
C4: Nr. V17E-
A8: KAIŠIADORIŲ RAJONO SAVIVALDYBĖS 2024 METŲ BIUDŽETE NUMATYTI
A9: ASIGNAVIMAI IŠ VALSTYBĖS BIUDŽETO SPECIALIOS TIKSLINĖS DOTACIJOS
A10: UGDYMO REIKMĖMS FINANSUOTI
D11: tūkst. Eur
A12: Eil. nr. | B12: Asignavimų valdytojas | C12: Iš viso | D12: iš jų darbo užmokesčiui
A14: 1. | B14: Švietimo, kultūros ir sporto programa
A15: 1.1. | B15: Savivaldybės administracijos direktorius | C15: 241
A16: 1.2. | B16: Kaišiadorių lopšelio-darželio „Žvaigždutė“ direktorius | C16: 486.8 | D16: 465.8
A17: 1.3. | B17: Kaišiadorių lopšelio-darželio „Spindulys“ direktorius | C17: 519.1 | D17: 441
A18: 1.4. | B18: Kaišiadorių r. Rumšiškių lopšelio-darželio direktorius | C18: 196.1 | D18: 170
A19: 1.5. | B19: Kaišiadorių r. Pravieniškių lopšelio-darželio „Ąžuoliukas“ direktorius | C19: 168 | D19: 162
A20: 1.6. | B20: Kaišiadorių r. Gudienos mokyklos-darželio „Rugelis“ direktorius | C20: 475.3 | D20: 455.5
A21: 1.7. | B21: Kaišiadorių r. Žiežmarių mokyklos-darželio „Vaikystės dvaras“ direktorius | C21: 569.3 | D21: 550
A22: 1.8. | B22: Kaišiadorių Algirdo Brazausko gimnazijos direktorius | C22: 1174.3 | D22: 1100
A23: 1.9. | B23: Kaišiadorių r. Žiežmarių gimnazijos direktorius | C23: 1403.8 | D23: 1334.3
A24: 1.10. | B24: Kaišiadorių r. Rumšiškių Antano Baranausko gimnazijos direktorius | C24: 1576.4 | D24: 1478.1
A25: 1.11. | B25: Kaišiadorių r. Kruonio pagrindinės mokyklos direktorius | C25: 675.6 | D25: 655.6
A26: 1.12. | B26: Kaišiadorių Vaclovo Giržado progimnazijos direktorius | C26: 2574.5 | D26: 2440.8
A27: 1.13. | B27: Kaišiadorių r. Žaslių pagrindinės mokyklos direktorius | C27: 722 | D27: 700
... A31: 1.17. | B31: Kaišiadorių pedagoginės psichologinės tarnybos direktorius | C31: 160.8 | D31: 154
A32: Iš viso asignavimų | C32: =SUM(C15:C31) -> 13274.7 | D32: =SUM(D15:D31) -> 12328.3

Sheet ASIGNAVIMAI IŠ SAVIV.BIUDŽETO
C1: PATVIRTINTA
C2: Kaišiadorių rajono savivaldybės tarybos
C3: 2024 m. sausio 25 d. sprendimu
C4: Nr. V17E-
A9: KAIŠIADORIŲ RAJONO SAVIVALDYBĖS 2024 METŲ BIUDŽETE NUMATYTI
A10: ASIGNAVIMAI IŠ SAVIVALDYBĖS BIUDŽETO PROGNOZUOJAMŲ PAJAMŲ
D12: tūkst. Eur
A13: Eil. nr. | B13: Asignavimų valdytojas | C13: Iš viso | D13: iš jų darbo užmokesčiui
A14: 1. | B14: Savivaldybės valdymo programa
A15: 1.1. | B15: Savivaldybės administracijos direktorius | C15: 5094.8 | D15: 4328.2
A16: 1.2. | B16: Savivaldybės administracijos direktorius (paskolų, dotacijų grąžinimas ir palūkanų mokėjimas) | C16: 891.3
A17: 1.3. | B17: Savivaldybės administracijos direktorius (Savivaldybės mero rezervas) | C17: 100
A18: 1.4. | B18: Savivaldybės administracijos direktorius (Savivaldybės tarybos funkcijoms) | C18: 735 | D18: 664
A19: 1.5. | B19: Savivaldybės kontrolierius | C19: 118.9 | D19: 110
A20: 1.6. | B20: Kaišiadorių rajono priešgaisrinės tarnybos viršininkas | C20: 48
A21: 1.7. | B21: Kaišiadorių bendrųjų funkcijų tarnybos direktorius | C21: 958.7 | D21: 830
A22: 1.8. | B22: Kaišiadorių lopšelio-darželio „Žvaigždutė“ direktorius | C22: 442.7 | D22: 342.5
A23: 1.9. | B23: Kaišiadorių lopšelio-darželio „Spindulys“ direktorius | C23: 363.7 | D23: 290
A24: 1.10. | B24: Kaišiadorių r. Rumšiškių lopšelio-darželio direktorius | C24: 222.8 | D24: 165
A25: 1.11. | B25: Kaišiadorių r. Pravieniškių lopšelio-darželio „Ąžuoliukas“ direktorius | C25: 213.2 | D25: 174.6
A26: 1.12. | B26: Kaišiadorių r. Gudienos mokyklos-darželio „Rugelis“ direktorius | C26: 394.7 | D26: 292.6
A27: 1.13. | B27: Kaišiadorių r. Žiežmarių mokyklos-darželio „Vaikystės dvaras“ direktorius | C27: 508.4 | D27: 383.8
A28: 1.14. | B28: Kaišiadorių Algirdo Brazausko gimnazijos direktorius | C28: 391.2 | D28: 245
A29: 1.15. | B29: Kaišiadorių r. Žiežmarių gimnazijos direktorius | C29: 503 | D29: 317.8
A30: 1.16. | B30: Kaišiadorių r. Rumšiškių Antano Baranausko gimnazijos direktorius | C30: 465.6 | D30: 304.8
A31: 1.17. | B31: Kaišiadorių r. Kruonio pagrindinės mokyklos direktorius | C31: 343.1 | D31: 261.3
A32: 1.18. | B32: Kaišiadorių Vaclovo Giržado progimnazijos direktorius | C32: 760.8 | D32: 522
... A49: 1.35. | B49: Kaišiadorių rajono savivaldybės visuomenės sveikatos biuro direktorius | C49: 6.6 | D49: 4.6
A50: 1.36. | B50: Kaišiadorių miesto seniūnas | C50: 139.2
A51: 1.37. | B51: Kaišiadorių apylinkės seniūnas | C51: 16.4
A52: 1.38. | B52: Kruonio seniūnas | C52: 51
A53: 1.39. | B53: Nemaitonių seniūnas | C53: 20.1
A54: 1.40. | B54: Palomenės seniūnas | C54: 14.6
A55: 1.41. | B55: Paparčių seniūnas | C55: 19.6
A56: 1.42. | B56: Pravieniškių seniūnas | C56: 37.1
A57: 1.43. | B57: Rumšiškių seniūnas | C57: 39.9
A58: 1.44. | B58: Žaslių seniūnas | C58: 20.8
A59: 1.45. | B59: Žiežmarių apylinkės seniūnas | C59: 14.7
A60: 1.46. | B60: Žiežmarių seniūnas | C60: 31.6
B61: Iš viso | C61: =SUM(C15:C60) -> 16577.4 | D61: =SUM(D15:D60) -> 11626.8
...

Sheet ASIGN IŠ DOTACIJŲ
D1: PATVIRTINTA
D2: Kaišiadorių rajono savivaldybės tarybos
D3: 2024 m. sausio 25 d. sprendimu Nr. V17E-
B7: KAIŠIADORIŲ RAJONO SAVIVALDYBĖS 2024 METŲ BIUDŽETE NUMATYTI ASIGNAVIMAI IŠ
B8: VALSTYBĖS BIUDŽETO SPECIALIŲ TIKSLINIŲ IR KITŲ DOTACIJŲ
E10: tūkst. Eur
A11: Eil. nr. | B11: Dotacijos paskirties pavadinimas | C11: Asignavimų valdytojas | D11: Iš viso | E11: iš jų darbo užmokesčiui
A12: 1. | B12: Savivaldybės valdymo programa
A13: 1.1. | B13: duomenims į Suteiktos valstybės pagalbos ir nereikšmingos pagalbos registrą teikti | C13: Savivaldybės administracijos direktorius | D13: 1.1 | E13: 1
A14: 1.2. | B14: civilinės būklės aktų registravimo funkcijai atlikti | D14: 28 | E14: 27.6
A15: 1.3. | B15: pirminės teisinės pagalbos funkcijai atlikti | D15: 9.5 | E15: 9.4
A16: 1.4. | B16: gyventojų registro tvarkymo ir duomenų teikimo valstybės registrams funkcijai atlikti | D16: 0.5 | E16: 0.5
A17: 1.5. | B17: civilinei saugai | D17: 42 | E17: 36.5
A18: 1.6. | B18: gyvenamosios vietos deklaravimo duomenų ir gyvenamosios vietos neturinčių asmenų apskaitos duomenims tvarkyti | D18: 2.9 | E18: 2.9
A19: 1.7. | B19: dalyvauti rengiant ir vykdant mobilizaciją, demobilizaciją, priimančiosios šalies paramą | D19: 7.3 | E19: 6.4
A20: 1.8. | B20: archyvinių dokumentų tvarkymo funkcijai atlikti | D20: 20.7 | E20: 18.5
A21: 1.9. | B21: neveiksnių asmenų būklės peržiūrėjimo funkcijai atlikti | D21: 3.4 | E21: 3.3
A22: 1.10. | B22: valstybinės kalbos vartojimo ir taisyklingumo kontrolei | D22: 9 | E22: 8.9
A23: 1.11. | B23: koordinuotai teikiamų paslaugų vaikams nuo gimimo iki 18 metų (turintiems didelių ir labai didelių specialiųjų ugdymosi poreikių iki 21 metų) ir vaiko atstovams koordinavimui finansuoti
A24: 1.12. | B24: priešgaisrinei saugos funkcijai | C24: Priešgaisrinės tarnybos viršininkas | D24: 979.4 | E24: 910
B25: Iš viso | D25: =SUM(D13:D24) -> 1103.8 | E25: =SUM(E13:E24) -> 1025
A26: 2. | B26: Švietimo, kultūros ir sporto programa
A27: 2.1 | B27: klasės specialiųjų ugdymosi poreikių turintiems mokiniams | C27: Kaišiadorių suaugusiųjų mokyklos direktorius | D27: 34.4 | E27: 12.5
A28: 2.2. | B28: mokyklos specialiųjų ugdymosi poreikių turintiems mokiniams | C28: Kaišiadorių šventosios Faustinos ugdymo centro direktorius | D28: 418.5 | E28: 294
A29: 2.3 | B29: neformaliajam vaikų švietimui | C29: Savivaldybės administracijos direktorius | D29: 170.4 | E29: 5
A30: 2.4. | B30: socialinę riziką patiriančių vaikų ikimokykliniam ugdymui užtikrinti | C30: Kaišiadorių r. Pravieniškių lopšelio-darželio „Ąžuoliukas“ direktorius | D30: 3.8 | E30: 3.7
A31: 2.5. | B31: savivaldybių viešosioms bibliotekoms dokumentams įsigyti | C31: Kaišiadorių rajono savivaldybės viešosios bibliotekos direktorius | D31: 38.7
B32: Iš viso | D32: =SUM(D27:D31) -> 665.8 | E32: =SUM(E27:E31) -> 315.2
A33: 3. | B33: Sveikatos ir socialinės apsaugos programa
A34: 3.1. | B34: socialinėms išmokoms ir kompensacijoms mokėti, skirtos paramai mirties atveju užtikrinti, iš jų | C34: Savivaldybės administracijos direktorius | D34: 248.5
A35: 3.2. | B35: socialinei paramai mokiniams, iš jų: | C35: Savivaldybės administracijos direktorius | D35: 588.2
B36: socialinei paramai mokiniams kitiems asignavimų valdytojams | C36: Kaišiadorių lopšelio-darželio „Žvaigždutė“ direktorius
C37: Kaišiadorių lopšelio-darželio „Spindulys“ direktorius
C38: Kaišiadorių r. Rumšiškių lopšelio-darželio direktorius
C39: Kaišiadorių r. Pravieniškių lopšelio-darželio „Ąžuoliukas“ direktorius
C40: Kaišiadorių r. Gudienos mokyklos-darželio „Rugelis“ direktorius
C41: Kaišiadorių r. Žiežmarių mokyklos-darželio„Vaikystės dvaras“ direktorius
C42: Kaišiadorių Algirdo Brazausko gimnazijos direktorius
C43: Kaišiadorių r. Žiežmarių gimnazijos direktorius
C44: Kaišiadorių r. Rumšiškių Antano Baranausko gimnazijos direktorius
...

Sheet ASIGN IŠ BĮ PAJAMŲ
C1: PATVIRTINTA
C2: Kaišiadorių rajono savivaldybės tarybos
C3: 2024 m. sausio 25 d. sprendimu Nr. V17E-
B7: KAIŠIADORIŲ RAJONO SAVIVALDYBĖS 2024 METŲ BIUDŽETE NUMATYTI
A8: ASIGNAVIMAI IŠ BIUDŽETINIŲ ĮSTAIGŲ PAJAMŲ ĮMOKŲ
D10: tūkst. Eur
A11: Eil. nr. | B11: Asignavimų valdytojas | C11: Iš viso | D11: iš jų darbo užmokesčiui
A13: 1. | B13: Savivaldybės valdymo programa
A14: 1.1. | B14: Kaišiadorių lopšelio-darželio „Žvaigždutė“ direktorius | C14: 100.5
A15: 1.2. | B15: Kaišiadorių lopšelio-darželio „Spindulys“ direktorius | C15: 97.5
A16: 1.3. | B16: Kaišiadorių r. Rumšiškių lopšelio-darželio direktorius | C16: 30
A17: 1.4. | B17: Kaišiadorių r. Pravieniškių lopšelio-darželio „Ąžuoliukas“ direktorius | C17: 30.4
A18: 1.5. | B18: Kaišiadorių r. Gudienos mokyklos-darželio „Rugelis“ direktorius | C18: 51
A19: 1.6. | B19: Kaišiadorių r. Žiežmarių mokyklos-darželio „Vaikystės dvaras“ direktorius | C19: 76.5
A20: 1.7. | B20: Kaišiadorių Algirdo Brazausko gimnazijos direktorius | C20: 6
A21: 1.8. | B21: Kaišiadorių r. Žiežmarių gimnazijos direktorius | C21: 2.9
A22: 1.9. | B22: Kaišiadorių r. Rumšiškių Antano Baranausko gimnazijos direktorius | C22: 22.2
A23: 1.10. | B23: Kaišiadorių r. Kruonio pagrindinės mokyklos direktorius | C23: 19.4
A24: 1.11. | B24: Kaišiadorių Vaclovo Giržado progimnazijos direktorius | C24: 29
A25: 1.12. | B25: Kaišiadorių r. Žaslių pagrindinės mokyklos direktorius | C25: 23.4
... A28: 1.15. | B28: Kaišiadorių šventosios Faustinos ugdymo centro direktorius | C28: 6
A29: 1.16. | B29: Kaišiadorių meno mokyklos direktorius | C29: 87 | D29: 60
A30: 1.17. | B30: Kaišiadorių švietimo ir sporto centro direktorius | C30: 105 | D30: 27
A31: 1.18. | B31: Kaišiadorių rajono savivaldybės viešosios bibliotekos direktorius | C31: 2
A32: 1.19. | B32: Kaišiadorių kultūros centro direktorius | C32: 17.5
A33: 1.20. | B33: Kruonio kultūros centro direktorius | C33: 0.6
A34: 1.21. | B34: Palomenės kultūros centro direktorius | C34: 6.5
A35: 1.22. | B35: Rumšiškių kultūros centro direktorius | C35: 1.7
A36: 1.23. | B36: Žaslių kultūros centro direktorius | C36: 21
A37: 1.24. | B37: Žiežmarių kultūros centro direktorius | C37: 0.7
B38: Iš viso | C38: =SUM(C14:C37) -> 742.8 | D38: =SUM(D14:D37) -> 87
A39: 2. | B39: Sveikatos ir socialinės apsaugos programa
A40: 2.1. | B40: Kaišiadorių socialinių paslaugų centro direktorius | C40: 170 | D40: 155
A41: 2.2. | B41: Kaišiadorių šventosios Faustinos ugdymo centro direktorius | C41: 27
A42: 2.3. | B42: Kaišiadorių rajono savivaldybės visuomenės sveikatos biuro direktorius | C42: 7.8 | D42: 4
A43: 2.4. | B43: Kaišiadorių miesto seniūnas | C43: 50
A44: 2.5. | B44: Kaišiadorių apylinkės seniūnas | C44: 1.5
A45: 2.6. | B45: Kruonio seniūnas | C45: 1.4
A46: 2.7. | B46: Palomenės seniūnas | C46: 1
A47: 2.8. | B47: Pravieniškių seniūnas | C47: 1.4
...

Sheet ASIGN SPEC PROGRAMOMS
C1: PATVIRTINTA
C2: Kaišiadorių rajono savivaldybės tarybos
C3: 2024 m. sausio 25 d. sprendimu
C4: Nr. V17E-
A9: KAIŠIADORIŲ RAJONO SAVIVALDYBĖS 2024 METŲ BIUDŽETE NUMATYTI ASIGNAVIMAI
A10: IŠ PAJAMŲ DALIES SPECIALIOSIOMS IR TIKSLINĖMS PROGRAMOMS FINANSUOTI
D11: tūkst. Eur
A12: Eil. nr. | B12: Asignavimų valdytojas | C12: Iš viso | D12: iš jų darbo užmokesčiui
A14: 1. | B14: Sveikatos ir socialinės apsaugos programa
A15: 1.1. | B15: Savivaldybės administracijos direktorius | C15: 30
B16: Iš viso | C16: =C15 -> 30 | D16: =SUM(D15) -> 0
A17: 2. | B17: Žemės ūkio ir aplinkos apsaugos programa
A18: 2.1. | B18: Savivaldybės administracijos direktorius | C18: 155
B19: Iš viso | C19: =SUM(C18) -> 155 | D19: =SUM(D18) -> 0
A20: 3. | B20: Investicijų, ūkio ir teritorijų planavimo programa
A21: 3.1. | B21: Savivaldybės administracijos direktorius | C21: 240
B22: Iš viso | C22: =SUM(C21) -> 240 | D22: =SUM(D21) -> 0
A23: Iš viso asignavimų | C23: =C19+C16+C22 -> 425 | D23: =D19+D16+D22 -> 0

Sheet ASIGN IŠ SKOLINTŲ LĖŠŲ

Sheet ASIGN IŠ NEP TIKSL PASK L
C1: PATVIRTINTA
C2: Kaišiadorių rajono savivaldybės tarybos 2024 m. sausio 25 d. sprendimu Nr. V17E-
A9: KAIŠIADORIŲ RAJONO SAVIVALDYBĖS 2024 METŲ BIUDŽETE NUMATYTI
A10: ASIGNAVIMAI IŠ NEPANAUDOTŲ TIKSLINĖS PASKIRTIES LĖŠŲ
D12: tūkst. Eur
A13: Eil. nr. | B13: Asignavimų valdytojas | C13: Iš viso | D13: iš jų darbo užmokesčiui
A15: 1. | B15: Sveikatos ir socialinės apsaugos programa
A16: 1.1. | B16: Savivaldybės administracijos direktorius (SL) | C16: 16.6
A17: 1.2. | B17: Savivaldybės administracijos direktorius (TL) | C17: 111
B18: Iš viso | C18: =SUM(C16:C17) -> 127.6 | D18: =SUM(D16) -> 0
A19: 2. | B19: Žemės ūkio ir aplinkos apsaugos programa
A20: 2.1. | B20: Savivaldybės administracijos direktorius (SL) | C20: 97.2
B21: Iš viso | C21: =C20 -> 97.2 | D21: =SUM(D20) -> 0
A22: 3. | B22: Investicijų, ūkio ir teritorijų planavimo programa
A23: 3.1. | B23: Savivaldybės administracijos direktorius (KIL) | C23: 609.2
A24: 3.2. | B24: Savivaldybės administracijos direktorius (ŽPL) | C24: 320.3
B25: Iš viso | C25: =SUM(C23:C24) -> 929.5 | D25: =SUM(D23) -> 0
B26: Iš viso asignavimų | C26: =C18+C21+C25 -> 1154.3 | D26: =D18+D21+D25 -> 0

Sheet IŠ NEP BĮ PAJAMŲ ĮM
C1: PATVIRTINTA
C2: Kaišiadorių rajono savivaldybės tarybos 2024 m. sausio 25 d. sprendimu Nr. V17E-
B5: KAIŠIADORIŲ RAJONO SAVIVALDYBĖS 2024 METŲ BIUDŽETE NUMATYTI
A6: ASIGNAVIMAI IŠ NEPANAUDOTŲ BIUDŽETINIŲ ĮSTAIGŲ PAJAMŲ ĮMOKŲ
D8: tūkst. Eur
A9: Eil. nr. | B9: Asignavimų valdytojas | C9: Iš viso | D9: iš jų darbo užmokesčiui
A11: 1. | B11: Savivaldybės valdymo programa
A12: 1.1. | B12: Kaišiadorių lopšelio-darželio „Žvaigždutė“ direktorius | C12: 33.2
A13: 1.2. | B13: Kaišiadorių lopšelio-darželio „Spindulys“ direktorius | C13: 27
A14: 1.3. | B14: Kaišiadorių r. Rumšiškių lopšelio-darželio direktorius | C14: 4.4
A15: 1.4. | B15: Kaišiadorių r. Pravieniškių lopšelio-darželio „Ąžuoliukas“ direktorius | C15: 6.2
A16: 1.5. | B16: Kaišiadorių r. Gudienos mokyklos-darželio „Rugelis“ direktorius | C16: 4.3
A17: 1.6. | B17: Kaišiadorių r. Žiežmarių mokyklos-darželio „Vaikystės dvaras“ direktorius | C17: 22.8
A18: 1.7. | B18: Kaišiadorių Algirdo Brazausko gimnazijos direktorius | C18: 3.4
A19: 1.8. | B19: Kaišiadorių r. Žiežmarių gimnazijos direktorius | C19: 1.2
A20: 1.9. | B20: Kaišiadorių r. Rumšiškių Antano Baranausko gimnazijos direktorius | C20: 2.8
A21: 1.10. | B21: Kaišiadorių r. Kruonio pagrindinės mokyklos direktorius | C21: 2.5
A22: 1.11. | B22: Kaišiadorių Vaclovo Giržado progimnazijos direktorius | C22: 6.1
A23: 1.12. | B23: Kaišiadorių r. Žaslių pagrindinės mokyklos direktorius | C23: 0.3
... A26: 1.15. | B26: Kaišiadorių šventosios Faustinos ugdymo centro direktorius | C26: 1.2
A27: 1.16. | B27: Kaišiadorių meno mokyklos direktorius | C27: 30.5 | D27: 20
A28: 1.17. | B28: Kaišiadorių švietimo ir sporto centro direktorius | C28: 6.4
A29: 1.18. | B29: Kaišiadorių rajono savivaldybės viešosios bibliotekos direktorius | C29: 1.1
A30: 1.19. | B30: Kaišiadorių kultūros centro direktorius | C30: 19.1
A31: 1.20. | B31: Kruonio kultūros centro direktorius | C31: 0.3
A32: 1.21. | B32: Palomenės kultūros centro direktorius | C32: 1.5
A33: 1.22. | B33: Rumšiškių kultūros centro direktorius | C33: 1
A34: 1.23. | B34: Žaslių kultūros centro direktorius | C34: 0.6
A35: 1.24. | B35: Žiežmarių kultūros centro direktorius | C35: 0.8
B36: Iš viso | C36: =SUM(C12:C35) -> 178.9 | D36: =SUM(D12:D35) -> 20
A37: 2. | B37: Sveikatos ir socialinės apsaugos programa
A38: 2.1. | B38: Kaišiadorių socialinių paslaugų centro direktorius | C38: 0.6
A39: 2.2. | B39: Kaišiadorių šventosios Faustinos ugdymo centro direktorius | C39: 15.9
A40: 2.3. | B40: Kaišiadorių rajono savivaldybės visuomenės sveikatos biuro direktorius | C40: 2.8
A41: 2.4. | B41: Kaišiadorių miesto seniūnas | C41: 2.3
A42: 2.5. | B42: Kaišiadorių apylinkės seniūnas | C42: 1.8
A43: 2.6. | B43: Kruonio seniūnas | C43: 3
A44: 2.7. | B44: Palomenės seniūnas | C44: 0.5
A45: 2.8. | B45: Pravieniškių seniūnas | C45: 0.4
A46: 2.9. | B46: Žaslių seniūnas | C46: 0.5
...

Sheet ASIGNAV IŠ ES NEP
D1: PATVIRTINTA
D2: Kaišiadorių rajono savivaldybės tarybos
D3: 2024 m. sausio 25 d. sprendimu Nr. V17E-
A7: KAIŠIADORIŲ RAJONO SAVIVALDYBĖS 2024 METŲ BIUDŽETE NUMATYTI ASIGNAVIMAI
A8: IŠ NEPANAUDOTŲ EUROPOS SĄJUNGOS FINANSINĖS PARAMOS LĖŠŲ
E9: tūkst. Eur
A10: Eil. nr. | B10: ES lėšų paskirties pavadinimas | C10: Asignavimų valdytojas | D10: Iš viso | E10: iš jų darbo užmokesčiui
A12: 1. | B12: Sveikatos ir socialinės apsaugos programa
A13: 1.1. | B13: Socialinio būsto fondo plėtra Kaišiadorių rajono savivaldybėje | C13: Savivaldybės administracijos direktorius | D13: 52.4
B14: Iš viso | D14: =SUM(D13:D13) -> 52.4 | E14: =SUM(E13:E13) -> 0

Sheet BKL
C1: PATVIRTINTA
C2: Kaišiadorių rajono savivaldybės tarybos
C3: 2024 m. sausio 25 d. sprendimu Nr. V17E-
A7: KAIŠIADORIŲ RAJONO SAVIVALDYBĖS 2024 METŲ BIUDŽETE NUMATYTI
A8: ASIGNAVIMAI IŠ NEPANAUDOTŲ SAVIVALDYBĖS BIUDŽETO LĖŠŲ
A9: KREDITORINIAM ĮSISKOLINIMUI PADENGTI
D10: tūkst. Eur
A11: Eil. nr. | B11: Asignavimų valdytojas | C11: Iš viso | D11: iš jų darbo užmokesčiui
A13: 1. | B13: Savivaldybės valdymo programa
A14: 1.1. | B14: Savivaldybės administracijos direktorius
A15: 1.2. | B15: Savivaldybės administracijos direktorius (paskolų, dotacijų grąžinimas ir palūkanų mokėjimas)
A16: 1.3. | B16: Savivaldybės administracijos direktorius (Savivaldybės mero rezervas)
A17: 1.4. | B17: Savivaldybės administracijos direktorius (Savivaldybės tarybos funkcijoms)
A18: 1.5. | B18: Savivaldybės kontrolierius
A19: 1.6. | B19: Kaišiadorių rajono priešgaisrinės tarnybos viršininkas
A20: 1.7. | B20: Kaišiadorių bendrųjų funkcijų tarnybos direktorius
A21: 1.8. | B21: Kaišiadorių lopšelio-darželio „Žvaigždutė“ direktorius
A22: 1.9. | B22: Kaišiadorių lopšelio-darželio „Spindulys“ direktorius
A23: 1.10. | B23: Kaišiadorių r. Rumšiškių lopšelio-darželio direktorius
A24: 1.11. | B24: Kaišiadorių r. Pravieniškių lopšelio-darželio „Ąžuoliukas“ direktorius
... A59: 1.46. | B59: Žiežmarių seniūnas
B60: Iš viso | C60: =SUM(C14:C59) -> 0 | D60: =SUM(D14:D59) -> 0
A61: 2. | B61: Švietimo, kultūros ir sporto programa
A62: 2.1. | B62: Savivaldybės administracijos direktorius
A63: 2.2. | B63: Kaišiadorių lopšelio-darželio „Žvaigždutė“ direktorius
A64: 2.3. | B64: Kaišiadorių lopšelio-darželio „Spindulys“ direktorius
A65: 2.4. | B65: Kaišiadorių r. Rumšiškių lopšelio-darželio direktorius
A66: 2.5. | B66: Kaišiadorių r. Pravieniškių lopšelio-darželio „Ąžuoliukas“ direktorius
A67: 2.6. | B67: Kaišiadorių r. Gudienos mokyklos-darželio „Rugelis“ direktorius
A68: 2.7. | B68: Kaišiadorių r. Žiežmarių mokyklos-darželio „Vaikystės dvaras“ direktorius
A69: 2.8. | B69: Kaišiadorių Algirdo Brazausko gimnazijos direktorius
A70: 2.9. | B70: Kaišiadorių r. Žiežmarių gimnazijos direktorius
A71: 2.10. | B71: Kaišiadorių r. Rumšiškių Antano Baranausko gimnazijos direktorius
A72: 2.11. | B72: Kaišiadorių r. Kruonio pagrindinės mokyklos direktorius
... A88: 2.28. | B88: Žiežmarių kultūros centro direktorius
B89: Iš viso | C89: =SUM(C62:C88) -> 0 | D89: =SUM(D63:D88) -> 0
A90: 3. | B90: Sveikatos ir socialinės apsaugos programa
A91: 3.1. | B91: Savivaldybės administracijos direktorius
A92: 3.2. | B92: Kaišiadorių socialinių paslaugų centro direktorius
A93: 3.3. | B93: Kaišiadorių r. Žiežmarių mokyklos-darželio „Vaikystės dvaras“ direktorius
...

Sheet Skolintos lėšos
D1: PATVIRTINTA
D2: Kaišiadorių rajono savivaldybės tarybos 2024 m. sausio 25 d. sprendimu Nr. V17E-
A8: KAIŠIADORIŲ RAJONO SAVIVALDYBĖS 2024 METŲ BIUDŽETE NUMATYTI ASIGNAVIMAI IŠ SKOLINTŲ LĖŠŲ
E10: tūkst. Eur
A11: Eil. nr. | B11: Lėšų paskirties pavadinimas | C11: Asignavimų valdytojas | D11: Iš viso | E11: iš jų darbo užmokesčiui
A13: 1. | B13: Žemės ūkio ir aplinkos apsaugos programa
A14: 1.1. | B14: Komunalinių atliekų tvarkymo infrastruktūros plėtra Kaišiadorių rajono savivaldybėje | C14: Savivaldybės administracijos direktorius | D14: 1.3
B15: Iš viso | D15: =SUM(D14:D14) -> 1.3 | E15: =SUM(E14:E14) -> 0
A16: 2. | B16: Investicijų, ūkio ir teritorijų planavimo programa
A17: 2.1. | B17: Sklypo, esančio Pramonės g., Kaišiadoryse, pritaikymas gamybinei (komercinei) veiklai | C17: Savivaldybės administracijos direktorius | D17: 300.2
B18: Iš viso | D18: =SUM(D17:D17) -> 300.2 | E18: =SUM(E17:E17) -> 0
A19: Iš viso asignavimų | D19: =D15+D18 -> 301.5 | E19: =E15+E18 -> 0

Sheet ASIGNAVIMAI PAGAL PROGRAMAS
C1: PATVIRTINTA
C2: Kaišiadorių rajono savivaldybės tarybos
C3: 2020 m. vasario 27 d. sprendimu Nr. V17-
A5: KAIŠIADORIŲ RAJONO SAVIVALDYBĖS 2020 METŲ BIUDŽETE NUMATYTI
A6: ASIGNAVIMAI PAGAL PROGRAMAS
F7: Tūkst. Eur
A8: Eil. nr. | B8: Programos pavadinimas | C8: Iš viso | D8: iš jų
D9: išlaidoms | F9: turtui įsigyti
D10: iš viso | E10: darbo užmokesčiui
A11: 1. | B11: =ASIGNAVIMAI!B12 -> Savivaldybės valdymo programa | C11: =ASIGNAVIMAI!C22 -> 257.2 | D11: =ASIGNAVIMAI!D22 -> 165 | E11: =ASIGNAVIMAI!#REF! -> #REF! | F11: =ASIGNAVIMAI!#REF! -> #REF!
A12: 2. | B12: =ASIGNAVIMAI!B23 -> Kaišiadorių r. Pravieniškių lopšelio-darželio „Ąžuoliukas“ direktorius | C12: =ASIGNAVIMAI!C51 -> 20.1 | D12: =ASIGNAVIMAI!D51 -> 0 | E12: =ASIGNAVIMAI!#REF! -> #REF! | F12: =ASIGNAVIMAI!#REF! -> #REF!
A13: 3. | B13: =ASIGNAVIMAI!B52 -> Palomenės seniūnas | C13: =ASIGNAVIMAI!C63 -> 723.7 | D13: =ASIGNAVIMAI!D63 -> 640 | E13: =ASIGNAVIMAI!#REF! -> #REF! | F13: =ASIGNAVIMAI!#REF! -> #REF!
A14: 4. | B14: =ASIGNAVIMAI!B64 -> Kaišiadorių r. Rumšiškių lopšelio-darželio direktorius | C14: =ASIGNAVIMAI!C81 -> 145.6 | D14: =ASIGNAVIMAI!D81 -> 115.4 | E14: =ASIGNAVIMAI!#REF! -> #REF!
A15: 5. | B15: =ASIGNAVIMAI!B82 -> Kaišiadorių kultūros centro direktorius | C15: =ASIGNAVIMAI!C85 -> 123.9 | D15: =ASIGNAVIMAI!D85 -> 100.8 | E15: =ASIGNAVIMAI!#REF! -> #REF!
A16: 6. | B16: =ASIGNAVIMAI!B86 -> Žaslių kultūros centro direktorius | C16: =ASIGNAVIMAI!C88 -> 18844.9 | D16: =ASIGNAVIMAI!D88 -> 28703 | E16: =ASIGNAVIMAI!#REF! -> #REF!
A17: 7. | B17: =ASIGNAVIMAI!B89 -> Sveikatos ir socialinės apsaugos programa | C17: =ASIGNAVIMAI!C91 -> 1498.6 | D17: =ASIGNAVIMAI!D91 -> 1028.2 | F17: =ASIGNAVIMAI!#REF! -> #REF!
A18: 8. | B18: =ASIGNAVIMAI!B97 -> Kaišiadorių r. Žiežmarių mokyklos-darželio „Vaikystės dvaras“ direktorius | C18: =ASIGNAVIMAI!C99 -> 6.6 | D18: =ASIGNAVIMAI!D99 -> 0 | E18: =ASIGNAVIMAI!#REF! -> #REF!
A19: 9. | B19: =ASIGNAVIMAI!B100 -> Kaišiadorių r. Rumšiškių Antano Baranausko gimnazijos direktorius | C19: =ASIGNAVIMAI!C103 -> 4 | D19: =ASIGNAVIMAI!D103 -> 0 | E19: =ASIGNAVIMAI!#REF! -> #REF!
A20: 10. | B20: =ASIGNAVIMAI!B104 -> Kaišiadorių šventosios Faustinos ugdymo centro direktorius | C20: =ASIGNAVIMAI!C106 -> 37.6 | D20: =ASIGNAVIMAI!D106 -> 36.6 | F20: =ASIGNAVIMAI!#REF! -> #REF!
A21: 11. | B21: =ASIGNAVIMAI!B107 -> Rumšiškių kultūros centro direktorius | C21: =ASIGNAVIMAI!C111 -> 2.2 | D21: =ASIGNAVIMAI!D111 -> 0 | F21: =ASIGNAVIMAI!#REF! -> #REF!
A22: 12. | B22: =ASIGNAVIMAI!B112 -> Pravieniškių seniūnas | C22: =ASIGNAVIMAI!C122 -> 40.7 | D22: =ASIGNAVIMAI!D122 -> 0 | F22: =ASIGNAVIMAI!#REF! -> #REF!
A23: 13. | B23: =ASIGNAVIMAI!B123 -> Palomenės seniūnas | C23: =ASIGNAVIMAI!C135 -> 62.7 | D23: =ASIGNAVIMAI!D135 -> 0 | F23: =ASIGNAVIMAI!#REF! -> #REF!
A24: Iš viso asignavimų | C24: =SUM(C11:C23) -> 21767.8 | D24: =SUM(D11:D23) -> 30789 | E24: =SUM(E11:E23) -> #REF! | F24: =SUM(F11:F23) -> #REF!

Sheet Lapas2
C1: PATVIRTINTA
C2: Kaišiadorių rajono savivaldybės tarybos
C3: 2020 m. vasario 27 d. sprendimu Nr. V17-
A5: KAIŠIADORIŲ RAJONO SAVIVALDYBĖS 2020 METŲ BIUDŽETE NUMATYTI ASIGNAVIMAI
A6: PAGAL PROGRAMAS
F7: Tūkst. Eur
A8: Eil. nr. | B8: Programos pavadinimas | C8: Iš viso | D8: iš jų
D9: išlaidoms | F9: turtui įsigyti
D10: iš viso | E10: darbo užmokesčiui
A11: 1. | B11: =ASIGNAVIMAI!B12 -> Savivaldybės valdymo programa | C11: =ASIGNAVIMAI!C22 -> 257.2 | D11: =ASIGNAVIMAI!D22 -> 165 | E11: =ASIGNAVIMAI!#REF! -> #REF! | F11: =ASIGNAVIMAI!#REF! -> #REF!
A12: 2. | B12: =ASIGNAVIMAI!B23 -> Kaišiadorių r. Pravieniškių lopšelio-darželio „Ąžuoliukas“ direktorius | C12: =ASIGNAVIMAI!C51 -> 20.1 | D12: =ASIGNAVIMAI!D51 -> 0 | E12: =ASIGNAVIMAI!#REF! -> #REF! | F12: =ASIGNAVIMAI!#REF! -> #REF!
A13: 3. | B13: =ASIGNAVIMAI!B52 -> Palomenės seniūnas | C13: =ASIGNAVIMAI!C63 -> 723.7 | D13: =ASIGNAVIMAI!D63 -> 640 | E13: =ASIGNAVIMAI!#REF! -> #REF! | F13: =ASIGNAVIMAI!#REF! -> #REF!
A14: 4. | B14: =ASIGNAVIMAI!B64 -> Kaišiadorių r. Rumšiškių lopšelio-darželio direktorius | C14: =ASIGNAVIMAI!C81 -> 145.6 | D14: =ASIGNAVIMAI!D81 -> 115.4 | E14: =ASIGNAVIMAI!#REF! -> #REF!
A15: 5. | B15: =ASIGNAVIMAI!B82 -> Kaišiadorių kultūros centro direktorius | C15: =ASIGNAVIMAI!C85 -> 123.9 | D15: =ASIGNAVIMAI!D85 -> 100.8 | E15: =ASIGNAVIMAI!#REF! -> #REF!
A16: 6. | B16: =ASIGNAVIMAI!B86 -> Žaslių kultūros centro direktorius | C16: =ASIGNAVIMAI!C88 -> 18844.9 | D16: =ASIGNAVIMAI!D88 -> 28703 | E16: =ASIGNAVIMAI!#REF! -> #REF!
A17: 7. | B17: =ASIGNAVIMAI!B89 -> Sveikatos ir socialinės apsaugos programa | C17: =ASIGNAVIMAI!C91 -> 1498.6 | D17: =ASIGNAVIMAI!D91 -> 1028.2 | F17: =ASIGNAVIMAI!#REF! -> #REF!
A18: 8. | B18: =ASIGNAVIMAI!B97 -> Kaišiadorių r. Žiežmarių mokyklos-darželio „Vaikystės dvaras“ direktorius | C18: =ASIGNAVIMAI!C99 -> 6.6 | D18: =ASIGNAVIMAI!D99 -> 0 | E18: =ASIGNAVIMAI!#REF! -> #REF!
A19: 9. | B19: =ASIGNAVIMAI!B100 -> Kaišiadorių r. Rumšiškių Antano Baranausko gimnazijos direktorius | C19: =ASIGNAVIMAI!C103 -> 4 | D19: =ASIGNAVIMAI!D103 -> 0 | E19: =ASIGNAVIMAI!#REF! -> #REF!
A20: 10. | B20: =ASIGNAVIMAI!B104 -> Kaišiadorių šventosios Faustinos ugdymo centro direktorius | C20: =ASIGNAVIMAI!C106 -> 37.6 | D20: =ASIGNAVIMAI!D106 -> 36.6 | F20: =ASIGNAVIMAI!#REF! -> #REF!
A21: 11. | B21: =ASIGNAVIMAI!B107 -> Rumšiškių kultūros centro direktorius | C21: =ASIGNAVIMAI!C111 -> 2.2 | D21: =ASIGNAVIMAI!D111 -> 0 | F21: =ASIGNAVIMAI!#REF! -> #REF!
A22: 12. | B22: =ASIGNAVIMAI!B112 -> Pravieniškių seniūnas | C22: =ASIGNAVIMAI!C122 -> 40.7 | D22: =ASIGNAVIMAI!D122 -> 0 | F22: =ASIGNAVIMAI!#REF! -> #REF!
A23: 13. | B23: =ASIGNAVIMAI!B123 -> Palomenės seniūnas | C23: =ASIGNAVIMAI!C135 -> 62.7 | D23: =ASIGNAVIMAI!D135 -> 0 | F23: =ASIGNAVIMAI!#REF! -> #REF!
A24: Iš viso asignavimų | C24: =SUM(C11:C23) -> 21767.8 | D24: =SUM(D11:D23) -> 30789 | E24: =SUM(E11:E23) -> #REF! | F24: =SUM(F11:F23) -> #REF!

Sheet ASIGNAVIMAI PAGAL PROGRAMAS SB
C1: PATVIRTINTA
C2: Kaišiadorių rajono savivaldybės tarybos
C3: 2020 m. vasario 27 d. sprendimu Nr. V17-
A5: KAIŠIADORIŲ RAJONO SAVIVALDYBĖS 2020 METŲ BIUDŽETE NUMATYTI
A6: ASIGNAVIMAI PAGAL PROGRAMAS IŠ SAVIVALDYBĖS BIUDŽETO
A7: PROGNOZUOJAMŲ PAJAMŲ
F8: Tūkst. Eur
A9: Eil. nr. | B9: Programos pavadinimas | C9: Iš viso | D9: iš jų
D10: išlaidoms | F10: turtui įsigyti
D11: iš viso | E11: darbo užmokesčiui
A12: 1. | B12: =ASIGNAVIMAI!B12 -> Savivaldybės valdymo programa | C12: ='ASIGNAVIMAI IŠ SAVIV.BIUDŽETO'!C62 -> 0 | D12: ='ASIGNAVIMAI IŠ SAVIV.BIUDŽETO'!D62 -> 0 | E12: ='ASIGNAVIMAI IŠ SAVIV.BIUDŽETO'!#REF! -> #REF! | F12: ='ASIGNAVIMAI IŠ SAVIV.BIUDŽETO'!#REF! -> #REF!
A13: 2. | B13: =ASIGNAVIMAI!B23 -> Kaišiadorių r. Pravieniškių lopšelio-darželio „Ąžuoliukas“ direktorius | C13: ='ASIGNAVIMAI IŠ SAVIV.BIUDŽETO'!#REF! -> #REF! | D13: ='ASIGNAVIMAI IŠ SAVIV.BIUDŽETO'!#REF! -> #REF! | E13: ='ASIGNAVIMAI IŠ SAVIV.BIUDŽETO'!#REF! -> #REF! | F13: ='ASIGNAVIMAI IŠ SAVIV.BIUDŽETO'!#REF! -> #REF!
A14: 3. | B14: =ASIGNAVIMAI!B52 -> Palomenės seniūnas | C14: ='ASIGNAVIMAI IŠ SAVIV.BIUDŽETO'!C92 -> 3962.8 | D14: ='ASIGNAVIMAI IŠ SAVIV.BIUDŽETO'!D92 -> 0 | E14: ='ASIGNAVIMAI IŠ SAVIV.BIUDŽETO'!#REF! -> #REF! | F14: ='ASIGNAVIMAI IŠ SAVIV.BIUDŽETO'!#REF! -> #REF!
A15: 4. | B15: =ASIGNAVIMAI!B64 -> Kaišiadorių r. Rumšiškių lopšelio-darželio direktorius | C15: ='ASIGNAVIMAI IŠ SAVIV.BIUDŽETO'!#REF! -> #REF! | D15: ='ASIGNAVIMAI IŠ SAVIV.BIUDŽETO'!#REF! -> #REF! | E15: ='ASIGNAVIMAI IŠ SAVIV.BIUDŽETO'!#REF! -> #REF!
A16: 5. | B16: =ASIGNAVIMAI!B82 -> Kaišiadorių kultūros centro direktorius
A17: 6. | B17: =ASIGNAVIMAI!B86 -> Žaslių kultūros centro direktorius | C17: ='ASIGNAVIMAI IŠ SAVIV.BIUDŽETO'!C124 -> 6236.9 | D17: ='ASIGNAVIMAI IŠ SAVIV.BIUDŽETO'!D124 -> 0 | E17: ='ASIGNAVIMAI IŠ SAVIV.BIUDŽETO'!#REF! -> #REF!
A18: 7. | B18: =ASIGNAVIMAI!B89 -> Sveikatos ir socialinės apsaugos programa | C18: ='ASIGNAVIMAI IŠ SAVIV.BIUDŽETO'!#REF! -> #REF! | D18: ='ASIGNAVIMAI IŠ SAVIV.BIUDŽETO'!#REF! -> #REF! | F18: ='ASIGNAVIMAI IŠ SAVIV.BIUDŽETO'!#REF! -> #REF!
A19: 8. | B19: =ASIGNAVIMAI!B97 -> Kaišiadorių r. Žiežmarių mokyklos-darželio „Vaikystės dvaras“ direktorius | C19: ='ASIGNAVIMAI IŠ SAVIV.BIUDŽETO'!#REF! -> #REF! | D19: ='ASIGNAVIMAI IŠ SAVIV.BIUDŽETO'!#REF! -> #REF!
A20: 9. | B20: =ASIGNAVIMAI!B100 -> Kaišiadorių r. Rumšiškių Antano Baranausko gimnazijos direktorius | C20: ='ASIGNAVIMAI IŠ SAVIV.BIUDŽETO'!#REF! -> #REF! | D20: ='ASIGNAVIMAI IŠ SAVIV.BIUDŽETO'!#REF! -> #REF! | E20: ='ASIGNAVIMAI IŠ SAVIV.BIUDŽETO'!#REF! -> #REF!
A21: 10. | B21: =ASIGNAVIMAI!B104 -> Kaišiadorių šventosios Faustinos ugdymo centro direktorius | C21: ='ASIGNAVIMAI IŠ SAVIV.BIUDŽETO'!#REF! -> #REF! | D21: ='ASIGNAVIMAI IŠ SAVIV.BIUDŽETO'!#REF! -> #REF! | F21: ='ASIGNAVIMAI IŠ SAVIV.BIUDŽETO'!#REF! -> #REF!
A22: 11. | B22: =ASIGNAVIMAI!B107 -> Rumšiškių kultūros centro direktorius | C22: ='ASIGNAVIMAI IŠ SAVIV.BIUDŽETO'!#REF! -> #REF! | F22: ='ASIGNAVIMAI IŠ SAVIV.BIUDŽETO'!#REF! -> #REF!
A23: 12. | B23: =ASIGNAVIMAI!B112 -> Pravieniškių seniūnas | C23: ='ASIGNAVIMAI IŠ SAVIV.BIUDŽETO'!#REF! -> #REF! | D23: ='ASIGNAVIMAI IŠ SAVIV.BIUDŽETO'!#REF! -> #REF! | F23: ='ASIGNAVIMAI IŠ SAVIV.BIUDŽETO'!#REF! -> #REF!
A24: 13. | B24: =ASIGNAVIMAI!B123 -> Palomenės seniūnas | C24: ='ASIGNAVIMAI IŠ SAVIV.BIUDŽETO'!#REF! -> #REF! | D24: ='ASIGNAVIMAI IŠ SAVIV.BIUDŽETO'!#REF! -> #REF! | F24: ='ASIGNAVIMAI IŠ SAVIV.BIUDŽETO'!#REF! -> #REF!
A25: Iš viso asignavimų | C25: =SUM(C12:C24) -> #REF! | D25: =SUM(D12:D24) -> #REF! | E25: =SUM(E12:E24) -> #REF! | F25: =SUM(F12:F24) -> #REF!

Sheet asign pagal programas

Sheet asign SB
C1: PATVIRTINTA
C2: Kaišiadorių rajono savivaldybės tarybos
C3: 2020 m. vasario 27 d. sprendimu Nr. V17-
A5: KAIŠIADORIŲ RAJONO SAVIVALDYBĖS 2020 METŲ BIUDŽETE NUMATYTI ASIGNAVIMAI
A6: PAGAL PROGRAMAS IŠ SAVIVALDYBĖS BIUDŽETO PROGNOZUOJAMŲ PAJAMŲ
F7: Tūkst. Eur
A8: Eil. nr. | B8: Programos pavadinimas | C8: Iš viso | D8: iš jų
D9: išlaidoms | F9: turtui įsigyti
D10: iš viso | E10: darbo užmokesčiui
A11: 1. | B11: =ASIGNAVIMAI!B12 -> Savivaldybės valdymo programa | C11: ='ASIGNAVIMAI IŠ SAVIV.BIUDŽETO'!C62 -> 0 | D11: ='ASIGNAVIMAI IŠ SAVIV.BIUDŽETO'!D62 -> 0 | E11: ='ASIGNAVIMAI IŠ SAVIV.BIUDŽETO'!#REF! -> #REF! | F11: ='ASIGNAVIMAI IŠ SAVIV.BIUDŽETO'!#REF! -> #REF!
A12: 2. | B12: =ASIGNAVIMAI!B23 -> Kaišiadorių r. Pravieniškių lopšelio-darželio „Ąžuoliukas“ direktorius | C12: ='ASIGNAVIMAI IŠ SAVIV.BIUDŽETO'!#REF! -> #REF! | D12: ='ASIGNAVIMAI IŠ SAVIV.BIUDŽETO'!#REF! -> #REF! | E12: ='ASIGNAVIMAI IŠ SAVIV.BIUDŽETO'!#REF! -> #REF! | F12: ='ASIGNAVIMAI IŠ SAVIV.BIUDŽETO'!#REF! -> #REF!
A13: 3. | B13: =ASIGNAVIMAI!B52 -> Palomenės seniūnas | C13: ='ASIGNAVIMAI IŠ SAVIV.BIUDŽETO'!C92 -> 3962.8 | D13: ='ASIGNAVIMAI IŠ SAVIV.BIUDŽETO'!D92 -> 0 | E13: ='ASIGNAVIMAI IŠ SAVIV.BIUDŽETO'!#REF! -> #REF! | F13: ='ASIGNAVIMAI IŠ SAVIV.BIUDŽETO'!#REF! -> #REF!
A14: 4. | B14: =ASIGNAVIMAI!B64 -> Kaišiadorių r. Rumšiškių lopšelio-darželio direktorius | C14: ='ASIGNAVIMAI IŠ SAVIV.BIUDŽETO'!#REF! -> #REF! | D14: ='ASIGNAVIMAI IŠ SAVIV.BIUDŽETO'!#REF! -> #REF! | E14: ='ASIGNAVIMAI IŠ SAVIV.BIUDŽETO'!#REF! -> #REF! | F14: ='ASIGNAVIMAI IŠ SAVIV.BIUDŽETO'!#REF! -> #REF!
A15: 5. | B15: =ASIGNAVIMAI!B82 -> Kaišiadorių kultūros centro direktorius | C15: ='ASIGNAVIMAI IŠ SAVIV.BIUDŽETO'!C110 -> 328.8 | D15: ='ASIGNAVIMAI IŠ SAVIV.BIUDŽETO'!D110 -> 0 | E15: ='ASIGNAVIMAI IŠ SAVIV.BIUDŽETO'!#REF! -> #REF! | F15: ='ASIGNAVIMAI IŠ SAVIV.BIUDŽETO'!#REF! -> #REF!
A16: 6. | B16: =ASIGNAVIMAI!B86 -> Žaslių kultūros centro direktorius | C16: ='ASIGNAVIMAI IŠ SAVIV.BIUDŽETO'!C124 -> 6236.9 | D16: ='ASIGNAVIMAI IŠ SAVIV.BIUDŽETO'!D124 -> 0 | E16: ='ASIGNAVIMAI IŠ SAVIV.BIUDŽETO'!#REF! -> #REF! | F16: ='ASIGNAVIMAI IŠ SAVIV.BIUDŽETO'!#REF! -> #REF!
A17: 7. | B17: =ASIGNAVIMAI!B89 -> Sveikatos ir socialinės apsaugos programa | C17: ='ASIGNAVIMAI IŠ SAVIV.BIUDŽETO'!#REF! -> #REF! | D17: ='ASIGNAVIMAI IŠ SAVIV.BIUDŽETO'!#REF! -> #REF! | E17: ='ASIGNAVIMAI IŠ SAVIV.BIUDŽETO'!#REF! -> #REF! | F17: ='ASIGNAVIMAI IŠ SAVIV.BIUDŽETO'!#REF! -> #REF!
A18: 8. | B18: =ASIGNAVIMAI!B97 -> Kaišiadorių r. Žiežmarių mokyklos-darželio „Vaikystės dvaras“ direktorius | C18: ='ASIGNAVIMAI IŠ SAVIV.BIUDŽETO'!#REF! -> #REF! | D18: ='ASIGNAVIMAI IŠ SAVIV.BIUDŽETO'!#REF! -> #REF! | E18: ='ASIGNAVIMAI IŠ SAVIV.BIUDŽETO'!#REF! -> #REF! | F18: ='ASIGNAVIMAI IŠ SAVIV.BIUDŽETO'!#REF! -> #REF!
A19: 9. | B19: =ASIGNAVIMAI!B100 -> Kaišiadorių r. Rumšiškių Antano Baranausko gimnazijos direktorius | C19: ='ASIGNAVIMAI IŠ SAVIV.BIUDŽETO'!#REF! -> #REF! | D19: ='ASIGNAVIMAI IŠ SAVIV.BIUDŽETO'!#REF! -> #REF! | E19: ='ASIGNAVIMAI IŠ SAVIV.BIUDŽETO'!#REF! -> #REF! | F19: ='ASIGNAVIMAI IŠ SAVIV.BIUDŽETO'!#REF! -> #REF!
A20: 10. | B20: =ASIGNAVIMAI!B104 -> Kaišiadorių šventosios Faustinos ugdymo centro direktorius | C20: ='ASIGNAVIMAI IŠ SAVIV.BIUDŽETO'!#REF! -> #REF! | D20: ='ASIGNAVIMAI IŠ SAVIV.BIUDŽETO'!#REF! -> #REF! | E20: ='ASIGNAVIMAI IŠ SAVIV.BIUDŽETO'!#REF! -> #REF! | F20: ='ASIGNAVIMAI IŠ SAVIV.BIUDŽETO'!#REF! -> #REF!
A21: 11. | B21: =ASIGNAVIMAI!B107 -> Rumšiškių kultūros centro direktorius | C21: ='ASIGNAVIMAI IŠ SAVIV.BIUDŽETO'!#REF! -> #REF! | D21: ='ASIGNAVIMAI IŠ SAVIV.BIUDŽETO'!#REF! -> #REF! | E21: ='ASIGNAVIMAI IŠ SAVIV.BIUDŽETO'!#REF! -> #REF! | F21: ='ASIGNAVIMAI IŠ SAVIV.BIUDŽETO'!#REF! -> #REF!
A22: 12. | B22: =ASIGNAVIMAI!B112 -> Pravieniškių seniūnas | C22: ='ASIGNAVIMAI IŠ SAVIV.BIUDŽETO'!#REF! -> #REF! | D22: ='ASIGNAVIMAI IŠ SAVIV.BIUDŽETO'!#REF! -> #REF! | E22: ='ASIGNAVIMAI IŠ SAVIV.BIUDŽETO'!#REF! -> #REF! | F22: ='ASIGNAVIMAI IŠ SAVIV.BIUDŽETO'!#REF! -> #REF!
A23: 13. | B23: =ASIGNAVIMAI!B123 -> Palomenės seniūnas | C23: ='ASIGNAVIMAI IŠ SAVIV.BIUDŽETO'!#REF! -> #REF! | D23: ='ASIGNAVIMAI IŠ SAVIV.BIUDŽETO'!#REF! -> #REF! | E23: ='ASIGNAVIMAI IŠ SAVIV.BIUDŽETO'!#REF! -> #REF! | F23: ='ASIGNAVIMAI IŠ SAVIV.BIUDŽETO'!#REF! -> #REF!
A24: Iš viso asignavimų | C24: =SUM(C11:C23) -> #REF! | D24: =SUM(D11:D23) -> #REF! | E24: =SUM(E11:E23) -> #REF! | F24: =SUM(F11:F23) -> #REF!
